0.1
0
0
-0.1
609500.807813958
4708504.40310898
