0.1
0
0
-0.1
607798.463944111
4707899.1530236
