0.1
0
0
-0.1
610374.867702955
4707361.22944355
