0.1
0
0
-0.1
607816.432663023
4706742.52376584
