0.1
0
0
-0.1
610393.264554459
4706204.59187434
