0.1
0
0
-0.1
605838.989034615
4724065.81464011
