0.1
0
0
-0.1
605847.85663284
4723487.4905961
