0.1
0
0
-0.1
610201.114360983
4663975.86142363
