0.1
0
0
-0.1
611144.355067877
4658784.85240997
