0.1
0
0
-0.1
617186.328112109
4658304.5452457
