0.1
0
0
-0.1
614610.219652523
4657683.61375941
