0.1
0
0
-0.1
614619.611503582
4657105.35041978
