0.1
0
0
-0.1
612052.048219756
4655907.1916272
