0.1
0
0
-0.1
616334.033603592
4657711.98988565
