0.1
0
0
-0.1
615481.589797485
4657119.43503555
