0.1
0
0
-0.1
616372.164259011
4655398.93712176
