0.1
0
0
-0.1
616381.696392233
4654820.67694282
