0.1
0
0
-0.1
614591.420342113
4658840.14519722
