0.1
0
0
-0.1
610300.700754295
4657614.85792601
