0.1
0
0
-0.1
584132.925647384
4753266.7294419
