0.1
0
0
-0.1
601864.037791374
4761606.88836198
