0.1
0
0
-0.1
604411.349209927
4761645.42178085
