0.1
0
0
-0.1
604420.208116112
4761067.05280149
