0.1
0
0
-0.1
606976.797161877
4760528.06795885
