0.1
0
0
-0.1
607835.185711881
4759963.17575595
