0.1
0
0
-0.1
606154.556311873
4758779.70493509
