0.1
0
0
-0.1
606163.556710191
4758201.3454463
