0.1
0
0
-0.1
606994.943127476
4759371.33243191
