0.1
0
0
-0.1
608693.716172558
4759398.28576617
