0.1
0
0
-0.1
607853.473022828
4758806.44827186
