0.1
0
0
-0.1
607013.085594523
4758214.61239619
