0.1
0
0
-0.1
609570.962130256
4757676.67501432
