0.1
0
0
-0.1
605242.579400778
4762815.23787017
