0.1
0
0
-0.1
603553.45662526
4762210.73843604
