0.1
0
0
-0.1
606949.574390569
4762263.18289962
