0.1
0
0
-0.1
609496.655657611
4762303.62133053
