0.1
0
0
-0.1
620211.36797341
4732400.39517812
