0.1
0
0
-0.1
621023.44382973
4734728.7160311
