0.1
0
0
-0.1
621886.181832408
4734165.5535294
