0.1
0
0
-0.1
622738.747455482
4734180.7309619
