0.1
0
0
-0.1
621043.787020209
4733572.03603581
