0.1
0
0
-0.1
623601.698980453
4733617.56840296
