0.1
0
0
-0.1
621053.957865207
4732993.69553492
