0.1
0
0
-0.1
621906.667100984
4733008.87238181
