0.1
0
0
-0.1
623612.084887102
4733039.22740946
