0.1
0
0
-0.1
621916.909235141
4732430.53230478
