0.1
0
0
-0.1
624464.791277613
4733054.61592396
