0.1
0
0
-0.1
623664.011607236
4730147.5776261
