0.1
0
0
-0.1
624506.617833659
4730741.28940246
