0.1
0
0
-0.1
610107.716403478
4724132.56528894
